BEGIN:VCALENDAR
VERSION:2.0
PRODID:-//Physicists Coalition for Nuclear Threat Reduction - ECPv6.15.20//NONSGML v1.0//EN
CALSCALE:GREGORIAN
METHOD:PUBLISH
X-ORIGINAL-URL:https://physicistscoalition.org
X-WR-CALDESC:Events for Physicists Coalition for Nuclear Threat Reduction
REFRESH-INTERVAL;VALUE=DURATION:PT1H
X-Robots-Tag:noindex
X-PUBLISHED-TTL:PT1H
BEGIN:VTIMEZONE
TZID:America/New_York
BEGIN:DAYLIGHT
TZOFFSETFROM:-0500
TZOFFSETTO:-0400
TZNAME:EDT
DTSTART:20210314T070000
END:DAYLIGHT
BEGIN:STANDARD
TZOFFSETFROM:-0400
TZOFFSETTO:-0500
TZNAME:EST
DTSTART:20211107T060000
END:STANDARD
BEGIN:DAYLIGHT
TZOFFSETFROM:-0500
TZOFFSETTO:-0400
TZNAME:EDT
DTSTART:20220313T070000
END:DAYLIGHT
BEGIN:STANDARD
TZOFFSETFROM:-0400
TZOFFSETTO:-0500
TZNAME:EST
DTSTART:20221106T060000
END:STANDARD
BEGIN:DAYLIGHT
TZOFFSETFROM:-0500
TZOFFSETTO:-0400
TZNAME:EDT
DTSTART:20230312T070000
END:DAYLIGHT
BEGIN:STANDARD
TZOFFSETFROM:-0400
TZOFFSETTO:-0500
TZNAME:EST
DTSTART:20231105T060000
END:STANDARD
END:VTIMEZONE
BEGIN:VEVENT
DTSTART;TZID=America/New_York:20221114T130000
DTEND;TZID=America/New_York:20221114T143000
DTSTAMP:20260420T050837
CREATED:20221027T160848Z
LAST-MODIFIED:20230509T165523Z
UID:405-1668430800-1668436200@physicistscoalition.org
SUMMARY:New Developments in International Treaties on Nuclear Weapons: the NPT and the TPNW
DESCRIPTION:﻿ \nThe 2017 Treaty on the Prohibition of Nuclear Weapons (TPNW)\, also known as the Nuclear Ban Treaty\, went into force in January 2021. The treaty was negotiated with the purpose of strengthening the largely unimplemented disarmament pillar of the 1968 Treaty on the Non-Proliferation of Nuclear Weapons (NPT). The NPT has been signed by all but four nations. The Nuclear Ban Treaty has been signed by 91 nations and ratified by 68\, none of which are nuclear weapon states. This August saw the completion of the tenth NPT review conference\, a meeting held between the parties to the Treaty to review its progress. The conference exposed a rift between the nuclear weapon states and the non-nuclear weapon states on the lack of progress toward the NPT disarmament requirement. In this webinar\, we will cover these recent developments\, as well as the significance of\, and the issue of compatibility between the NPT and TPNW. \n\n\n\n\nPanelists \n\nZia Mian is a physicist and co-director of Princeton University’s Program on Science and Global Security. He made presentations at the August 2022 NPT Non-Proliferation Treaty (NPT) Review Conference and at the first meeting of States Parties to the Treaty on the Prohibition of Nuclear Weapons (TPNW) in June.\nRandy Rydell is a former Senior Political Affairs Officer for the UN’s High Representative for Disarmament Affairs and a staff member working on nonproliferation in the United States Senate. Since his retirement in 2014\, he’s served as an Executive Advisor to Mayors for Peace\, managed by the Hiroshima Peace Culture Foundation.\nRay Acheson has been providing analysis on arms control diplomacy at the United Nations and other international forums for over a decade as the head of Reaching Critical Will\, the disarmament program at the Women’s International League for Peace and Freedom. They are currently a visiting researcher at Princeton’s Program on Science and Global Security and a steering group member of the International Campaign to Abolish Nuclear Weapons (ICAN).
URL:https://physicistscoalition.org/events/npt-tpnw-webinar/
CATEGORIES:Webinars
END:VEVENT
END:VCALENDAR