BEGIN:VCALENDAR
VERSION:2.0
PRODID:-//Physicists Coalition for Nuclear Threat Reduction - ECPv6.15.20//NONSGML v1.0//EN
CALSCALE:GREGORIAN
METHOD:PUBLISH
X-ORIGINAL-URL:https://physicistscoalition.org
X-WR-CALDESC:Events for Physicists Coalition for Nuclear Threat Reduction
REFRESH-INTERVAL;VALUE=DURATION:PT1H
X-Robots-Tag:noindex
X-PUBLISHED-TTL:PT1H
BEGIN:VTIMEZONE
TZID:America/New_York
BEGIN:DAYLIGHT
TZOFFSETFROM:-0500
TZOFFSETTO:-0400
TZNAME:EDT
DTSTART:20200308T070000
END:DAYLIGHT
BEGIN:STANDARD
TZOFFSETFROM:-0400
TZOFFSETTO:-0500
TZNAME:EST
DTSTART:20201101T060000
END:STANDARD
BEGIN:DAYLIGHT
TZOFFSETFROM:-0500
TZOFFSETTO:-0400
TZNAME:EDT
DTSTART:20210314T070000
END:DAYLIGHT
BEGIN:STANDARD
TZOFFSETFROM:-0400
TZOFFSETTO:-0500
TZNAME:EST
DTSTART:20211107T060000
END:STANDARD
BEGIN:DAYLIGHT
TZOFFSETFROM:-0500
TZOFFSETTO:-0400
TZNAME:EDT
DTSTART:20220313T070000
END:DAYLIGHT
BEGIN:STANDARD
TZOFFSETFROM:-0400
TZOFFSETTO:-0500
TZNAME:EST
DTSTART:20221106T060000
END:STANDARD
END:VTIMEZONE
BEGIN:VEVENT
DTSTART;VALUE=DATE:20210713
DTEND;VALUE=DATE:20210714
DTSTAMP:20260421T044808
CREATED:20221027T213543Z
LAST-MODIFIED:20221027T213652Z
UID:462-1626134400-1626220799@physicistscoalition.org
SUMMARY:The Real World Effects of Nuclear Weapons
DESCRIPTION:Our July 13\, 2021 webinar examines the effects of nuclear weapons\, including the immediate and direct effects\, the impact on climate and food\, and how government war planners understand these effects. Speakers include Steve Fetter (University of Maryland\, College Park)\, Matthew McKinzie (Natural Resources Defense Council)\, Alan Robock (Rutger University)\, and Lynn Eden (Stanford University).
URL:https://physicistscoalition.org/events/the-real-world-effects-of-nuclear-weapons/
CATEGORIES:Webinars
END:VEVENT
END:VCALENDAR